BEGIN:VCALENDAR
VERSION:2.0
PRODID:-//Wisconsin Corn - ECPv6.15.20//NONSGML v1.0//EN
CALSCALE:GREGORIAN
METHOD:PUBLISH
X-ORIGINAL-URL:https://wicorn.org
X-WR-CALDESC:Events for Wisconsin Corn
REFRESH-INTERVAL;VALUE=DURATION:PT1H
X-Robots-Tag:noindex
X-PUBLISHED-TTL:PT1H
BEGIN:VTIMEZONE
TZID:America/Chicago
BEGIN:DAYLIGHT
TZOFFSETFROM:-0600
TZOFFSETTO:-0500
TZNAME:CDT
DTSTART:20230312T080000
END:DAYLIGHT
BEGIN:STANDARD
TZOFFSETFROM:-0500
TZOFFSETTO:-0600
TZNAME:CST
DTSTART:20231105T070000
END:STANDARD
BEGIN:DAYLIGHT
TZOFFSETFROM:-0600
TZOFFSETTO:-0500
TZNAME:CDT
DTSTART:20240310T080000
END:DAYLIGHT
BEGIN:STANDARD
TZOFFSETFROM:-0500
TZOFFSETTO:-0600
TZNAME:CST
DTSTART:20241103T070000
END:STANDARD
BEGIN:DAYLIGHT
TZOFFSETFROM:-0600
TZOFFSETTO:-0500
TZNAME:CDT
DTSTART:20250309T080000
END:DAYLIGHT
BEGIN:STANDARD
TZOFFSETFROM:-0500
TZOFFSETTO:-0600
TZNAME:CST
DTSTART:20251102T070000
END:STANDARD
END:VTIMEZONE
BEGIN:VEVENT
DTSTART;TZID=America/Chicago:20240618T080000
DTEND;TZID=America/Chicago:20240618T170000
DTSTAMP:20260421T101843
CREATED:20240221T190600Z
LAST-MODIFIED:20240221T190600Z
UID:5130-1718697600-1718730000@wicorn.org
SUMMARY:WCGA & WCP Board of Director Meetings
DESCRIPTION:
URL:https://wicorn.org/events/wcga-wcp-board-of-director-meetings-2/
END:VEVENT
BEGIN:VEVENT
DTSTART;TZID=America/Chicago:20240627T080000
DTEND;TZID=America/Chicago:20240628T170000
DTSTAMP:20260421T101843
CREATED:20240221T191010Z
LAST-MODIFIED:20240221T191010Z
UID:5132-1719475200-1719594000@wicorn.org
SUMMARY:National Corn Growers Women & Mentors Program
DESCRIPTION:
URL:https://wicorn.org/events/national-corn-growers-women-mentors-program/
LOCATION:St Louis MO
END:VEVENT
END:VCALENDAR