BEGIN:VCALENDAR
VERSION:2.0
PRODID:-//Wisconsin Corn - ECPv6.15.11//NONSGML v1.0//EN
CALSCALE:GREGORIAN
METHOD:PUBLISH
X-ORIGINAL-URL:https://wicorn.org
X-WR-CALDESC:Events for Wisconsin Corn
REFRESH-INTERVAL;VALUE=DURATION:PT1H
X-Robots-Tag:noindex
X-PUBLISHED-TTL:PT1H
BEGIN:VTIMEZONE
TZID:America/Chicago
BEGIN:DAYLIGHT
TZOFFSETFROM:-0600
TZOFFSETTO:-0500
TZNAME:CDT
DTSTART:20230312T080000
END:DAYLIGHT
BEGIN:STANDARD
TZOFFSETFROM:-0500
TZOFFSETTO:-0600
TZNAME:CST
DTSTART:20231105T070000
END:STANDARD
BEGIN:DAYLIGHT
TZOFFSETFROM:-0600
TZOFFSETTO:-0500
TZNAME:CDT
DTSTART:20240310T080000
END:DAYLIGHT
BEGIN:STANDARD
TZOFFSETFROM:-0500
TZOFFSETTO:-0600
TZNAME:CST
DTSTART:20241103T070000
END:STANDARD
BEGIN:DAYLIGHT
TZOFFSETFROM:-0600
TZOFFSETTO:-0500
TZNAME:CDT
DTSTART:20250309T080000
END:DAYLIGHT
BEGIN:STANDARD
TZOFFSETFROM:-0500
TZOFFSETTO:-0600
TZNAME:CST
DTSTART:20251102T070000
END:STANDARD
END:VTIMEZONE
BEGIN:VEVENT
DTSTART;TZID=America/Chicago:20241211T080000
DTEND;TZID=America/Chicago:20241212T170000
DTSTAMP:20260421T085510
CREATED:20240221T201415Z
LAST-MODIFIED:20240221T201415Z
UID:5147-1733904000-1734022800@wicorn.org
SUMMARY:WCGA & WCP Board of Directors Meetings
DESCRIPTION:
URL:https://wicorn.org/events/wcga-wcp-board-of-directors-meetings/
LOCATION:Wilderness – Wisconsin Dells\, WI\, Wisconsin Dells\, WI
END:VEVENT
END:VCALENDAR